BEGIN:VCALENDAR
VERSION:2.0
PRODID:icalendar-ruby
CALSCALE:GREGORIAN
METHOD:PUBLISH
BEGIN:VEVENT
DTSTAMP:20260421T141848Z
UID:9-1214462@networkbible.org
DTSTART:20241008T233000Z
DTEND:20241009T003000Z
CLASS:PUBLIC
CREATED:20260421T070222
DESCRIPTION:Bring your Bible\, your insights\, and your questions as we dis
 cuss God's Word together.  
LAST-MODIFIED:20260421T070222
LOCATION:Network Bible Fellowship
SUMMARY:Faith2Life Group
URL;VALUE=URI:https://www.networkbible.org/events/faith2life-group--9/2024-
 10-08
ATTACH;FILENAME=N00Z.jpg;FMTTYPE=image/jpeg:https://dq5pwpg1q8ru0.cloudfron
 t.net/2024/06/25/17/54/07/225e8dd4-0cc0-4df0-a9b8-e0ae3e931d2e/N00Z.jpg
END:VEVENT
END:VCALENDAR
